BEGIN:VCALENDAR
VERSION:2.0
PRODID:-//Take Me Out the the Ball Game Foundation - ECPv6.15.20//NONSGML v1.0//EN
CALSCALE:GREGORIAN
METHOD:PUBLISH
X-ORIGINAL-URL:https://takemeouttotheballgamefoundation.org
X-WR-CALDESC:Events for Take Me Out the the Ball Game Foundation
REFRESH-INTERVAL;VALUE=DURATION:PT1H
X-Robots-Tag:noindex
X-PUBLISHED-TTL:PT1H
BEGIN:VTIMEZONE
TZID:UTC
BEGIN:STANDARD
TZOFFSETFROM:+0000
TZOFFSETTO:+0000
TZNAME:UTC
DTSTART:20200101T000000
END:STANDARD
END:VTIMEZONE
BEGIN:VEVENT
DTSTART;VALUE=DATE:20230212
DTEND;VALUE=DATE:20230213
DTSTAMP:20260424T180811
CREATED:20230109T161405Z
LAST-MODIFIED:20230109T163633Z
UID:1872-1676160000-1676246399@takemeouttotheballgamefoundation.org
SUMMARY:2023 Super Bowl LVII TMOTBG Fundraiser
DESCRIPTION:Check My Box(es)
URL:https://takemeouttotheballgamefoundation.org/event/2023-super-bowl-lvii-tmotbg-fundraiser/
END:VEVENT
BEGIN:VEVENT
DTSTART;TZID=UTC:20220724T170000
DTEND;TZID=UTC:20220724T210000
DTSTAMP:20260424T180811
CREATED:20220617T160833Z
LAST-MODIFIED:20230613T182927Z
UID:1506-1658682000-1658696400@takemeouttotheballgamefoundation.org
SUMMARY:Christmas in July 2022
DESCRIPTION:﻿\nWe’re back with our annual Christmas in July event at Mulcahy’s! \nJoin us on Sunday\, July 24th from 5PM – 9PM for an amazing night with drink specials\, BBQ\, live music by Decadia\, raffles\, live and silent auctions – featuring live appearances by Carton & Roberts of WFAN! \nTickets can be purchased at www.muls.com or at the door the day of the event. \n\n\n\nPurchase Tickets\nDonate\n\n\n\n$30 per ticket\n(kids 10 & under get in free)
URL:https://takemeouttotheballgamefoundation.org/event/christmas-in-july-2022/
LOCATION:Mulcahy’s\, 3232 Railroad Ave.\, Wantagh\, NY\, 11793\, United States
ATTACH;FMTTYPE=image/png:https://takemeouttotheballgamefoundation.org/wp-content/uploads/2022/06/My-project-29.png
END:VEVENT
BEGIN:VEVENT
DTSTART;VALUE=DATE:20220213
DTEND;VALUE=DATE:20220214
DTSTAMP:20260424T180811
CREATED:20220110T030905Z
LAST-MODIFIED:20220123T004737Z
UID:1444-1644710400-1644796799@takemeouttotheballgamefoundation.org
SUMMARY:2022 Super Bowl LVI TMOTBG Fundraiser
DESCRIPTION:Check My Box(es)
URL:https://takemeouttotheballgamefoundation.org/event/2022-super-bowl-lvi-tmotbg-fundraiser/
END:VEVENT
BEGIN:VEVENT
DTSTART;VALUE=DATE:20211024
DTEND;VALUE=DATE:20211025
DTSTAMP:20260424T180811
CREATED:20210812T203057Z
LAST-MODIFIED:20230306T184555Z
UID:1338-1635033600-1635119999@takemeouttotheballgamefoundation.org
SUMMARY:Annual Bowling Event 2022
DESCRIPTION:A big “Thank You!” to everyone who came out to our Annual Bowling Event at Bowlmor. It was wonderful to see everyone in person\, have some laughs and bowl a few frames!!! Your generosity is truly humbling and it will enable us to continue to fulfill the mission and vision of the Foundation. \nSee you next time! \n \n \n 
URL:https://takemeouttotheballgamefoundation.org/event/annual-bowling-event-2022/
LOCATION:Bowlmor Long Island\, 895 Walt Whitman Road\, Melville\, NY\, 11747\, United States
END:VEVENT
BEGIN:VEVENT
DTSTART;VALUE=DATE:20210207
DTEND;VALUE=DATE:20210208
DTSTAMP:20260424T180811
CREATED:20210104T205501Z
LAST-MODIFIED:20220110T030952Z
UID:958-1612656000-1612742399@takemeouttotheballgamefoundation.org
SUMMARY:2021 Super Bowl LV TMOTBG Fundraiser
DESCRIPTION:Kick off 2021 with a little fun while also making a difference for children and families on Long Island.\nJoin Take Me Out to the Ball Game Foundation for a virtual Super Bowl Pool fundraiser! \nBoxes are now SOLD OUT. Thank you for participating!\nTo check on your box\, click the grid below: \n \nWe will choose a winner each quarter. Half of the proceeds will be distributed to the winners:\n1st Q winner receives $500.\n2nd Q winner receives $1000.\n3rd Q winner receives $1500.\n4th Q winner receives $2000. \nIf you have any questions\, email us at TMOTBG@gmail.com – thank you for your support and good luck!
URL:https://takemeouttotheballgamefoundation.org/event/super-bowl-lv-tmotbg-fundraiser/
ATTACH;FMTTYPE=image/png:https://takemeouttotheballgamefoundation.org/wp-content/uploads/2021/01/Super_Bowl_LV.png
END:VEVENT
END:VCALENDAR